Workbook

Sheet Bon de commande
B1: Noms :
B3: Adresse :
B7: N° de Téléphone :
B11: Date :
A19: Bon de commande | B19: Tarif TTC | C19: Quantité commandée | D19: Prix total TTC
A20: Miel en pot de 500 gr
A21: Miel de Romarin | D21: =+C21*$B$23 -> 0
A22: Miel de Garrigue | D22: =+C22*$B$23 -> 0 | E22: Nbre de pots
A23: Miel des corbières | B23: 10 | D23: =+C23*$B$23 -> 0
A24: Miel de maquis | D24: =+C24*$B$23 -> 0
A25: Miel de fleurs sauvages | D25: =+C25*$B$23 -> 0
A26: Miel de montagne | D26: =+C26*$B$23 -> 0 | E26: =SUM(C20:C30) -> 0
A27: Miel de Forêt du Bugarach - miel de chataignier | D27: =+C27*$B$23 -> 0
A28: Miel de rhododendron | D28: =+C28*$B$23 -> 0
A29: Miel de buplèvre | D29: =+C29*$B$23 -> 0
A31: Miel en pot de 250 gr
A32: Miel de Romarin | D32: =+C32*$B$34 -> 0
A33: Miel de Garrigue | D33: =+C33*$B$34 -> 0 | E33: Nbre de pots
A34: Miel des corbières | B34: 6 | D34: =+C34*$B$34 -> 0
A35: Miel de maquis | D35: =+C35*$B$34 -> 0
A36: Miel de fleurs sauvages | D36: =+C36*$B$34 -> 0
A37: Miel de montagne | D37: =+C37*$B$34 -> 0 | E37: =SUM(C31:C41) -> 0
A38: Miel de Forêt du Bugarach - miel de chataignier | D38: =+C38*$B$34 -> 0
A39: Miel de rhododendron | D39: =+C39*$B$34 -> 0
A40: miel de Buplèvre | D40: =+C40*$B$34 -> 0
A42: Propolis
A43: Propolis brute - petit pot de 15 gr | B43: 5 | D43: =+B43*C43 -> 0
A44: Teinture-mère de propolis - Compte-gouttes de 20 ml | B44: 8 | D44: =+B44*C44 -> 0
A45: Teinture-mère de propolis - Vaporisateur de 50 ml | B45: 15 | D45: =+B45*C45 -> 0
A46: Propomiel - pot de 125gr | B46: 6 | D46: =+B46*C46 -> 0
A47: Propomiel - pot de 250gr | B47: 10 | D47: =+B47*C47 -> 0
D48: =+B48*C48 -> 0
A50: Montant TTC de votre commande hors frais | D50: =SUM(D20:D48) -> 0
A52: Estimation des frais de collissimo. Cette estimation vous sera confirmée à réception de votre commande. | D52: =+'Frais d''expédition'!B11 -> 0 | E52: =IF(D52="Trop Lourd","Pévoyez deux commandes"," ")
A54: Montant total TTC à payer | D54: =+D50+D52 -> 0
C55: =IF(D52="Trop Lourd"," ","Ce montant vous sera confirmé à réception de commande") -> Ce montant vous sera confirmé à réception de commande

Sheet Frais d'expédition
E2: Tarif au 1er janvier 2026
A3: Estimation des frais de colissimo | F3: Colissimo boite aux lettres | G3: Colissimo Point de retrait | I3: Mondial Relay Locker ou point Relay | J3: Mondial Relay Domicile
E4: Jusqu'à 250 gr | F4: 5.49 | G4: 4.79 | I4: 4.1 | J4: 4.99
A5: Poids de la commande de pot(s) de 500 gr (estimé après emballage à 780 gr le pot) | B5: =SUM('Bon de commande'!C21:C30)*0.78 -> 0 | E5: Jusqu'à 500 gr | F5: 7.59 | G5: 6.89 | I5: 4.1 | J5: 6.79
A6: Poids de la commande de pot(s) de 250 gr (estimé après emballage à 450 gr le pot) | B6: =(SUM('Bon de commande'!C32:C40)+'Bon de commande'!C47)*0.45 -> 0 | E6: Jusqu'à 750 gr | F6: 9.29 | G6: 8.59 | I6: 5.1 | J6: 8.55
A7: Poids de la commande de pot(s) de 125 gr (estimé après emballage à 250 gr le pot) | B7: =+'Bon de commande'!C46*0.25 -> 0 | E7: Jusqu'à 1 kg | F7: 9.59 | G7: 8.89 | I7: 5.1 | J7: 8.79
A8: Poids propolis commandée | B8: =+'Bon de commande'!C43*0.1+'Bon de commande'!C44*0.09+'Bon de commande'!C45*0.15+'Bon de commande'!C46*0.22+'Bon de commande'!C47*0.4 -> 0 | E8: Jusqu'à 2 kg | F8: 11.17 | G8: 10.49 | I8: 6.6 | J8: 9.99
A9: Poids totalestimé après emballage | B9: =+B5+B6+B8 -> 0 | E9: Jusqu'à 5 kg | F9: 17.39 | G9: 16.69 | I9: 15.99 | J9: 14.99
E10: Jusqu'à 10 kg | F10: 25.29 | G10: non proposé | I10: 15.99 | J10: 14.99
A11: Estimation Tarif colissimo | B11: =IF(B9=0,0,IF(AND(B9>0,B9<0.251),F4,IF(AND(B9>0.25,B9<0.501),F5,IF(AND(B9>0.5,B9<0.751),F6,IF(AND(B9>0.75,B9<1.001),F7,IF(AND(B9>1,B9<2.001),F8,IF(AND(B9>2,B9<5.001),F9,IF(AND(B9>5,B9<10.001),"Trop Lourd","Trop lourd")))))))) -> 0 | E11: Jusqu'à 30 kg | F11: non proposé | G11: non proposé | I11: non proposé | J11: non proposé
E22: Tarif au 1er janvier 2026
F23: Colissimo boite aux lettres | G23: Colissimo Point de retrait | I23: Mondial Relay Locker ou point Relay | J23: Mondial Relay Domicile
E24: Jusqu'à 5 kg | F24: 17.39 | G24: 16.69 | I24: 15.99 | J24: 14.99
E25: Jusqu'à 10 kg | F25: 25.29 | G25: non proposé | I25: 15.99 | J25: 14.99
